BEGIN:VCALENDAR
VERSION:2.0
PRODID:-//NOVA 535 - ECPv6.15.20//NONSGML v1.0//EN
CALSCALE:GREGORIAN
METHOD:PUBLISH
X-ORIGINAL-URL:https://nova535.com
X-WR-CALDESC:Events for NOVA 535
REFRESH-INTERVAL;VALUE=DURATION:PT1H
X-Robots-Tag:noindex
X-PUBLISHED-TTL:PT1H
BEGIN:VTIMEZONE
TZID:America/New_York
BEGIN:DAYLIGHT
TZOFFSETFROM:-0500
TZOFFSETTO:-0400
TZNAME:EDT
DTSTART:20120311T070000
END:DAYLIGHT
BEGIN:STANDARD
TZOFFSETFROM:-0400
TZOFFSETTO:-0500
TZNAME:EST
DTSTART:20121104T060000
END:STANDARD
BEGIN:DAYLIGHT
TZOFFSETFROM:-0500
TZOFFSETTO:-0400
TZNAME:EDT
DTSTART:20130310T070000
END:DAYLIGHT
BEGIN:STANDARD
TZOFFSETFROM:-0400
TZOFFSETTO:-0500
TZNAME:EST
DTSTART:20131103T060000
END:STANDARD
BEGIN:DAYLIGHT
TZOFFSETFROM:-0500
TZOFFSETTO:-0400
TZNAME:EDT
DTSTART:20140309T070000
END:DAYLIGHT
BEGIN:STANDARD
TZOFFSETFROM:-0400
TZOFFSETTO:-0500
TZNAME:EST
DTSTART:20141102T060000
END:STANDARD
BEGIN:DAYLIGHT
TZOFFSETFROM:-0500
TZOFFSETTO:-0400
TZNAME:EDT
DTSTART:20150308T070000
END:DAYLIGHT
BEGIN:STANDARD
TZOFFSETFROM:-0400
TZOFFSETTO:-0500
TZNAME:EST
DTSTART:20151101T060000
END:STANDARD
BEGIN:DAYLIGHT
TZOFFSETFROM:-0500
TZOFFSETTO:-0400
TZNAME:EDT
DTSTART:20160313T070000
END:DAYLIGHT
BEGIN:STANDARD
TZOFFSETFROM:-0400
TZOFFSETTO:-0500
TZNAME:EST
DTSTART:20161106T060000
END:STANDARD
END:VTIMEZONE
BEGIN:VEVENT
DTSTART;TZID=America/New_York:20150626T200000
DTEND;TZID=America/New_York:20150626T235500
DTSTAMP:20260423T095519
CREATED:20150410T004315Z
LAST-MODIFIED:20150625T214625Z
UID:10000160-1435348800-1435362900@nova535.com
SUMMARY:Sultry Cirque Soiree
DESCRIPTION:Exquisite Entertainers & Gypsy Allure Present\nSultry Cirque Soirée \nFriday\, June 26th – Doors: 8:00 pm  Show 8:30 pm\nat historic venue NOVA 535 Unique Event Space downtown St. Pete \nTICKETS     Buy TICKETS now and SAVE $$    TICKETS \nCome experience an intimate and exotic night out with your lover or friends.\nEnjoy an adults-only (18+) summer variety show that will leave your senses\nheightened! A scandalous spectacle of sorts\, displaying: circus arts\, burlesque\nand classic vaudeville entertainment. This production is the follow-up show to “Le\nCirque De L’Amour” which played in February. \n \n  \nYou’ll see some of your favorite performers return\, plus new faces – together the entertainers have created an all new show show\, yet just as risqué and up-scale as the last. \nTICKETS     Buy TICKETS now and SAVE $$    TICKETS \n \nFeaturing:\nMayven Missbehavin’ a captivating vocalist and aerial burlesque performer. \n \nGypsy Allure the beautiful Mistress of Magic herself.  \nFranki Markstone a delightfully obnoxious mouthpiece\, with\nthe fastest tassels in the south! \n\nBill Berry: A Sword Swallower and fantastic juggler. He will leave you in shock\nand disbelief!\nBellah: Our strong fire-cracker aerial artist. She’s a professional at getting herself\ntied up\, then finding her way out.\nMina Munro: Our lean and flexible tease that really knows how to work a pole. In\n2014\, she was awarded Fans’ Choice at the Miss Pole Champ USA national\ncompetition.\nSir Rick and His Mistress: The spectacular and invigorating acrobatic dance duo.\nTheir act is both mesmerizing and will allow your mind to wander. \n\nJenna Beth: The feathery fox from south Florida\, who will leave you breathless.\n  \nTICKETS     Buy TICKETS now and SAVE $$    TICKETS \nGeneral Admission: $30 Presale / $40 At the Door\nVIP Package Table for two: $150\nVIP Package Table for four: $300\nPurchase Tickets and VIP Packages at www.gypsyallure.com\nLimited VIP\, so please reserve quickly! \nFOOD – Delicious food truck Holy Crepe\nDRINKS – Full Liquor cash /  credit bars \nPARKING and Directions
URL:https://nova535.com/event/sultry-cirque-soiree/
LOCATION:NOVA 535\, 535 Dr M.L.K. Jr St N\, St. Petersburg\, FL 33701\, Saint Petersburg\, FL\, 33701\, United States
ATTACH;FMTTYPE=image/jpeg:https://nova535.com/wp-content/uploads/2015/04/2015-Mayven-and-Bella-Dragon-on-LYRN-flyer-for-June-26-2015-at-NOVA535.jpg
GEO:27.7783238;-82.6465287
X-APPLE-STRUCTURED-LOCATION;VALUE=URI;X-ADDRESS=NOVA 535 535 Dr M.L.K. Jr St N St. Petersburg FL 33701 Saint Petersburg FL 33701 United States;X-APPLE-RADIUS=500;X-TITLE=535 Dr M.L.K. Jr St N\, St. Petersburg\, FL 33701:geo:-82.6465287,27.7783238
END:VEVENT
BEGIN:VEVENT
DTSTART;TZID=America/New_York:20150505T190000
DTEND;TZID=America/New_York:20150505T230000
DTSTAMP:20260423T095519
CREATED:20150306T002826Z
LAST-MODIFIED:20150506T011431Z
UID:10000162-1430852400-1430866800@nova535.com
SUMMARY:Pale Horse Lucha on Cinco de Mayo
DESCRIPTION:Pale Horse Lucha Art Exhibit and Live Wrestling on Cinco de Mayo at the historic 1920 event venue NOVA 535 Unique Event Space here in gorgeous downtown St. Petersburg\, Florida. \n7:00 pm   ART SHOW until 11:00 pm\n8:00 pm   First Live Wrestling Match\n9:00 pm   MAIN Live Wrestling EVENT \nTICKETS:  $ 20 at the door \nDRINKS:    Multiple Full Liquor Cash / Credit Bars\nFOOD:       3 FOOD TRUCKS: St. Pete Taco Lady\, Dos Tacos and Latin Lunchbox\nART:          Featuring original Pale Horse Luchadors  PaleHorseLucha.com \nParking – Directions to NOVA 535 \nJoin us for Pale Horse Lucha on Cinco de Mayo – Live Wresting and Art Show May 5th\, 2015 at NOVA 535!\nAs seen on the cover of Creative Loafing and Tampa Bay Times!
URL:https://nova535.com/event/pale-horse-lucha-on-cinco-de-mayo/
LOCATION:NOVA 535\, 535 Dr M.L.K. Jr St N\, St. Petersburg\, FL 33701\, Saint Petersburg\, FL\, 33701\, United States
ATTACH;FMTTYPE=image/jpeg:https://nova535.com/wp-content/uploads/2015/03/2015-05-05-Pale-Horse-Lucha-at-NOVA535-Flyer-final.jpg
GEO:27.7783238;-82.6465287
X-APPLE-STRUCTURED-LOCATION;VALUE=URI;X-ADDRESS=NOVA 535 535 Dr M.L.K. Jr St N St. Petersburg FL 33701 Saint Petersburg FL 33701 United States;X-APPLE-RADIUS=500;X-TITLE=535 Dr M.L.K. Jr St N\, St. Petersburg\, FL 33701:geo:-82.6465287,27.7783238
END:VEVENT
BEGIN:VEVENT
DTSTART;TZID=America/New_York:20150402T180000
DTEND;TZID=America/New_York:20150403T000000
DTSTAMP:20260423T095519
CREATED:20150317T010851Z
LAST-MODIFIED:20150402T205450Z
UID:10000161-1427997600-1428019200@nova535.com
SUMMARY:April Birthday Foolery where 4 and 7 makes 50
DESCRIPTION:Thursday April 2\, 2015\n6:00 pm to Midnight\nHistoric venue NOVA 535 Unique Event Space \nJoin us at NOVA 535 Thursday night April 2\, 2015 for April Birthday Foolery where 4 and 7 makes 50. Huh? Well in 2015\, NOVA 535 Unique Event Space turns 7\, founder Michael S. Novilla turns 47 and fellow April Fool Mario Defreitas turns the big 50. So we’re Fooling around a bit to grab your attention and inviting you to our annual April Birthday Foolery! \nWe’re combining forces with the weekly Entrepreneur Social Club group that meets at NOVA 535 every Thursday plus the monthly Tampa Bay Business Makers combining it all into one grande 100% Social (subtle way of saying party) Evening! \nAre you a fellow April Baby? Bring your valid ID and get your first drink on us!\n \nDRINKS:      Full liquor cash/credit bars\nFOOD:         The Taco Lady Food Truck – healthy and delicious\nGAMES:       Enjoy Vegas Style Blackjack and Roulette 7 pm – 11 pm\nMAGIC:        The exciting Magic of Cory Van Valin​ 7:30pm – 9:30 pm\nMUSIC:        Nick Boutwell St. Pete’s infamous Accordionist 6:30pm -7:30 pm\nMUSIC:        Dazzling Miss Mayven Sings a few songs  8:45 pm\nCAKE:          Birthday Cake around 9 pm\nMUSIC:        DJ Joey 8:00 pm – 1:00 am\nFOOLERY:  Special entertainment\, surprises and more to be announced! \nCHARITY:   Please help This Little Light of Mine \nParking and Directions to NOVA 535 \nSave the Date Thursday April 2nd 2015 and get a-head of the game! \nApril Birthday Foolery at NOVA 535 on April 2\, 2015\n  \n 
URL:https://nova535.com/event/april-birthday-foolery-where-4-and-7-makes-50/
LOCATION:NOVA 535\, 535 Dr M.L.K. Jr St N\, St. Petersburg\, FL 33701\, Saint Petersburg\, FL\, 33701\, United States
ATTACH;FMTTYPE=image/jpeg:https://nova535.com/wp-content/uploads/2015/03/2012-April-NOVA-Fool-ooza-Wild-4-You-IMG_1771-even-bigger-e1426540235598.jpg
ORGANIZER;CN="Michael Scott Novilla":MAILTO:Michael@nova535.com
GEO:27.7783238;-82.6465287
X-APPLE-STRUCTURED-LOCATION;VALUE=URI;X-ADDRESS=NOVA 535 535 Dr M.L.K. Jr St N St. Petersburg FL 33701 Saint Petersburg FL 33701 United States;X-APPLE-RADIUS=500;X-TITLE=535 Dr M.L.K. Jr St N\, St. Petersburg\, FL 33701:geo:-82.6465287,27.7783238
END:VEVENT
BEGIN:VEVENT
DTSTART;TZID=America/New_York:20150107T210000
DTEND;TZID=America/New_York:20150108T030000
DTSTAMP:20260423T095519
CREATED:20141228T023952Z
LAST-MODIFIED:20141229T082258Z
UID:10000163-1420664400-1420686000@nova535.com
SUMMARY:DJ FRESH presents NYE 2015 Hospitality Ball
DESCRIPTION:DJ Fresh Events presents \nHOSPITALITY BALL 2015\nA New Years Celebration\, \nWEDNESDAY JANUARY 7\, 2015\n9:00 pm – 3:00 am\nNOVA 535 \n(scroll to bottom for TICKETS) \nTHIS IS FOR HOSPITALITY & INDUSTRY FRIENDS ONLY! \nTickets are $20 and a portion of the proceeds will be going to ALL CHILDREN’S HOSPITAL. \nOn Wednesday January 7th\, 2015\, at the gorgeous downtown St. Pete venue NOVA 535 we are going to recreate New Years Eve Night for all of our friends in the Hospitality Industry\, Hospitality Ball 2015. This will be an Annual Event. This way you can still work on New Years Eve but also have your own upscale party to attend one week after the biggest night of the year. Party with your co-workers\, friends and meet some new ones without having to work! Bring your date or come with friends to this red carpet event brought to you by DJ Fresh Events. \nUpscale Cocktail Attire is requested \nThe night will include…\nOne kick ass band to start the night off\n5 of Tampa Bay’s Best DJ’s\nRed Carpet Entrance\nPhoto Booth\nBalloon Drop\nParty Favors\nFree Parking\nMultiple Cash / Credit Full Liquor Bars \nPARKING and DIRECTIONS to NOVA 535
URL:https://nova535.com/event/dj-fresh-presents-nye-2015-hospitality-ball/
LOCATION:NOVA 535\, 535 Dr M.L.K. Jr St N\, St. Petersburg\, FL 33701\, Saint Petersburg\, FL\, 33701\, United States
ATTACH;FMTTYPE=image/jpeg:https://nova535.com/wp-content/uploads/2014/12/2015-01-07-DJ-Fresh-Hospitality-NYE-party-at-NOVA-535-downtown-St.-Pete-e1419714455872.jpg
GEO:27.7783238;-82.6465287
X-APPLE-STRUCTURED-LOCATION;VALUE=URI;X-ADDRESS=NOVA 535 535 Dr M.L.K. Jr St N St. Petersburg FL 33701 Saint Petersburg FL 33701 United States;X-APPLE-RADIUS=500;X-TITLE=535 Dr M.L.K. Jr St N\, St. Petersburg\, FL 33701:geo:-82.6465287,27.7783238
END:VEVENT
BEGIN:VEVENT
DTSTART;TZID=America/New_York:20141226T191500
DTEND;TZID=America/New_York:20141227T010000
DTSTAMP:20260423T095519
CREATED:20141223T215518Z
LAST-MODIFIED:20141223T215621Z
UID:10000106-1419621300-1419642000@nova535.com
SUMMARY:Labudde Harvey Burns Annual Holiday Celebration
DESCRIPTION:You are cordially invited to Eat\, Drink\, and be Merry with us at our Annual Holiday Celebration here at NOVA 535 downtown St. Pete\, Florida on Friday\, December 26\, 2014. \nFor almost 40 years Dan Harvey\, Steve Burns and Jon LaBudde have been hosting an annual Holiday Party\, and this year it’s at the gorgeous\, modern NOVA 535 Unique Event Space in downtown St. Pete.\n\n []  FREE ENTRY\n []  FOOD\n []  ENTERTAINMENT by the Ocean Road Band\n []  CASH / CREDIT BAR\n []  Free Parking across the street  Parking and Directions\n\nJoin us as we celebrate the season!\n===================================\nQUESTIONS 727-510-1921\nFACEBOOK INVITE\nPARKING and DIRECTIONS to NOVA 535\n===================================
URL:https://nova535.com/event/labudde-harvey-burns-annual-holiday-celebration/
LOCATION:NOVA 535\, 535 Dr M.L.K. Jr St N\, St. Petersburg\, FL 33701\, Saint Petersburg\, FL\, 33701\, United States
ATTACH;FMTTYPE=image/jpeg:https://nova535.com/wp-content/uploads/2014/12/Annual-Holiday-Celebration-LaBudde-Harvey-and-Burns.jpg
GEO:27.7783238;-82.6465287
X-APPLE-STRUCTURED-LOCATION;VALUE=URI;X-ADDRESS=NOVA 535 535 Dr M.L.K. Jr St N St. Petersburg FL 33701 Saint Petersburg FL 33701 United States;X-APPLE-RADIUS=500;X-TITLE=535 Dr M.L.K. Jr St N\, St. Petersburg\, FL 33701:geo:-82.6465287,27.7783238
END:VEVENT
BEGIN:VEVENT
DTSTART;TZID=America/New_York:20141211T180000
DTEND;TZID=America/New_York:20141212T010000
DTSTAMP:20260423T095519
CREATED:20140530T184713Z
LAST-MODIFIED:20141212T021205Z
UID:10000173-1418320800-1418346000@nova535.com
SUMMARY:NOVA NOEL 7
DESCRIPTION:NOVA NOEL 7\nThursday December 11\, 2014   6:00 pm – 1:00 am \nJoin NOVA 535 \, Keep Saint Petersburg Local\, Entrepreneur Social Club and DowntownStPete.com for St. Pete’s best Holiday parties called NOVA NOEL! Family Friendly until 10 pm. \n6:00 pm NOVA NOEL Begins with dinner Available via Maggie on the Move\n6:00 pm PHOTOBOOTH by Get The Picture\n \n6:00 pm Do some HOLIDAY SHOPPING here and support LOCAL businesses\n***** SUGAR RAY’s BAKERY: Tarts\, Cookies\, Mini Cupcakes\, Dips and more\n***** DARA JENDAYI: Scrabble Rings\, Earbuds and Cool Techy stuff\n***** ART POOL: Vintage Jewelry\, Stocking Stuffers and Ladies Accessories \n7:00 pm  Santa Arrives for $5 Photos via B. Lively Images\n7:00 pm  Tony Castellano Band  7 pm – 9 pm\n8:00 pm  Experience the delightful Hoola Monsters\n10:00 pm  DJ ACE VEDO spins her holiday cheer for us Grown Ups\n10:30 pm  Gypsy-Allure and Mayven Missbehavin host their fabulous Upscale Holiday Burlesque Show\n11:00 pm  Ugly Sweater Contest hosted by GOT JOKES?\n1:00 am  Party Ends Happy Holidays \nTICKETS: \n$14 online\,  include valet parking (scroll to bottom to buy tickets)\n$20 at the door\n$95 Vendor Tables\, online only\, includes 6′ Rectangular table\, black linen and power.
URL:https://nova535.com/event/nova-noel/
LOCATION:NOVA 535\, 535 Dr M.L.K. Jr St N\, St. Petersburg\, FL 33701\, Saint Petersburg\, FL\, 33701\, United States
ATTACH;FMTTYPE=image/jpeg:https://nova535.com/wp-content/uploads/2014/05/Nova_NN_2012_Photobooth_12-13_18-36-051-e1414772814575.jpg
ORGANIZER;CN="Michael Scott Novilla":MAILTO:Michael@nova535.com
GEO:27.7783238;-82.6465287
X-APPLE-STRUCTURED-LOCATION;VALUE=URI;X-ADDRESS=NOVA 535 535 Dr M.L.K. Jr St N St. Petersburg FL 33701 Saint Petersburg FL 33701 United States;X-APPLE-RADIUS=500;X-TITLE=535 Dr M.L.K. Jr St N\, St. Petersburg\, FL 33701:geo:-82.6465287,27.7783238
END:VEVENT
BEGIN:VEVENT
DTSTART;TZID=America/New_York:20141031T210000
DTEND;TZID=America/New_York:20141101T030000
DTSTAMP:20260423T095519
CREATED:20140425T201157Z
LAST-MODIFIED:20141101T005741Z
UID:10000172-1414789200-1414810800@nova535.com
SUMMARY:NOVAWEEN 8
DESCRIPTION:NOVAWEEN 8  is St. Pete’s favorite Halloween Party\nFriday October 31\, 2014 9:00 pm – 3:00 am\n**  Hosted by Gypsy Allure  **\nNOVAWEEN has become the most anticipated and talked about annual event at NOVA 535\, and each year it just get’s better. \nNOVAWEEN 8 comes 10-31-2014 \n[] Adults 21 and up only party\n[] Free Valet Parking\n[] Multiple full liquor bars\n[] Hot delicious Food Grill available from Murray’s Chicago Deli\n[] Hosted by Gypsy-Allure\n[] Miss Mayven’s Spellbinding Go Go Dancers\n[] Best of The Bay DJ MEGA\n[] Spooky Courtyard and Full Bar with Tarot Card Reader\n[] PHOTOBOOTH by Get the Picture\n[] Midnight COSTUME CONTESTS:\nScariest\, Most Unique\, Sexiest Male\, Sexiest Female\, Crowd Favorite and Best Couple Combo\n[] Judges: Gypsy Allure\, Motown Pride of Got Jokes and Reno Reach’s Jon Labudde\n[] Delicious sweet tooth CANDY BAR\n[] BLACKJACK table upstairs\n[] Sexy\, Scary Bloodbath Lady\n[] Look up for the fabulous Lrya Girl\nSAVE $$ get your tickets now http://novaween.com \nTickets are $16 advance $20 at the door\, includes valet. \nSCROLL DOWN FOR TICKETS\n(Tickets don’t work in Safari\, instead use Chrome\, IE\, firefox\,..)
URL:https://nova535.com/event/novaween-8/
LOCATION:NOVA 535\, 535 Dr M.L.K. Jr St N\, St. Petersburg\, FL 33701\, Saint Petersburg\, FL\, 33701\, United States
ATTACH;FMTTYPE=image/jpeg:https://nova535.com/wp-content/uploads/2014/04/2014-10-31-NOVAWEEN-8-Poster-www.novaween.com-google.jpg
ORGANIZER;CN="Michael Scott Novilla":MAILTO:Michael@nova535.com
GEO:27.7783238;-82.6465287
X-APPLE-STRUCTURED-LOCATION;VALUE=URI;X-ADDRESS=NOVA 535 535 Dr M.L.K. Jr St N St. Petersburg FL 33701 Saint Petersburg FL 33701 United States;X-APPLE-RADIUS=500;X-TITLE=535 Dr M.L.K. Jr St N\, St. Petersburg\, FL 33701:geo:-82.6465287,27.7783238
END:VEVENT
BEGIN:VEVENT
DTSTART;TZID=America/New_York:20141016T060000
DTEND;TZID=America/New_York:20141016T220000
DTSTAMP:20260423T095519
CREATED:20141001T025556Z
LAST-MODIFIED:20141009T212411Z
UID:10000174-1413439200-1413496800@nova535.com
SUMMARY:Keep St. Pete Local presents Local Meltdown
DESCRIPTION:Keep St. Pete Local presents Local Meltdown\nThursday October 16\, 2014 at NOVA 535 6:00 pm to 10:00 pm\n12 amateur chefs compete in 3 cheesy categories (grilled cheese/mac-n-cheese/anything awesome you can create with cheese) and YOU get to cheese\, er choose the winner! \nTICKETS      \nFacebook Event Page \n[] 12 amateur chefs compete in 3 cheesy categories (grilled cheese/mac-n-cheese/anything awesome you can create with cheese)\n[]  Your “tasting ticket” also allows you to vote for the best creation in each category (People’s Choice)\n[] Guest judges (Chef Jeffrey Jew; Janet Keeler\, Tampa Bay Times; Meaghan Habuda\, Creative Loafing Tampa; Andy Salyards\, owner of Urban Brew and BBQ– serves “the Tampa Bay area’s best mac and cheese” according to Laura Reiley\, Times Food Critic) will select the Judges’ Choice winners \n[] VIP Tasting Experience upstairs with Mazzaro’s Cheese Room\n\n[] Special brews from Brewers Tasting Room & Justin Grant\n\n[] Live music by Lounge Cat – “sophisticated party band” plays old school blues\, New Orleans jazz\, swing\, ska\, standards\, Motown & Latin \nTICKETS\n 
URL:https://nova535.com/event/keep-st-pete-local-presents-local-meltdown/
LOCATION:NOVA 535\, 535 Dr M.L.K. Jr St N\, St. Petersburg\, FL 33701\, Saint Petersburg\, FL\, 33701\, United States
ATTACH;FMTTYPE=image/jpeg:https://nova535.com/wp-content/uploads/2014/09/2014-10-16-KSPL-Local-MeltDown-at-NOVA535-flyer-google.jpg
GEO:27.7783238;-82.6465287
X-APPLE-STRUCTURED-LOCATION;VALUE=URI;X-ADDRESS=NOVA 535 535 Dr M.L.K. Jr St N St. Petersburg FL 33701 Saint Petersburg FL 33701 United States;X-APPLE-RADIUS=500;X-TITLE=535 Dr M.L.K. Jr St N\, St. Petersburg\, FL 33701:geo:-82.6465287,27.7783238
END:VEVENT
BEGIN:VEVENT
DTSTART;TZID=America/New_York:20131031T213000
DTEND;TZID=America/New_York:20131101T030000
DTSTAMP:20260423T095519
CREATED:20130903T193805Z
LAST-MODIFIED:20131016T214721Z
UID:10000170-1383255000-1383274800@nova535.com
SUMMARY:NOVAWEEN 7
DESCRIPTION:OCT 31   NOVAWEEN 7 with RON WHITE                     9:30 pm – 3:00 am
URL:https://nova535.com/event/novaween-7/
LOCATION:NOVA 535\, 535 Dr M.L.K. Jr St N\, St. Petersburg\, FL 33701\, Saint Petersburg\, FL\, 33701\, United States
ATTACH;FMTTYPE=image/jpeg:https://nova535.com/wp-content/uploads/2013/09/NVWN_Cover1000x650.jpg
GEO:27.7783238;-82.6465287
X-APPLE-STRUCTURED-LOCATION;VALUE=URI;X-ADDRESS=NOVA 535 535 Dr M.L.K. Jr St N St. Petersburg FL 33701 Saint Petersburg FL 33701 United States;X-APPLE-RADIUS=500;X-TITLE=535 Dr M.L.K. Jr St N\, St. Petersburg\, FL 33701:geo:-82.6465287,27.7783238
END:VEVENT
BEGIN:VEVENT
DTSTART;TZID=America/New_York:20131031T180000
DTEND;TZID=America/New_York:20131031T210000
DTSTAMP:20260423T095519
CREATED:20130903T202103Z
LAST-MODIFIED:20131024T180700Z
UID:10000171-1383242400-1383253200@nova535.com
SUMMARY:Halloween Comedy Show with Ron White - Dia de los Muertos
DESCRIPTION:Support Brides Against Breast Cancer on Halloween Night\nRON WHITE Comedy Show and Live Auction at NOVA 535 in St. Pete \nPerformance by 6x Top 40 Singer/Songwriter MARGO REY\nplus hilarious Comedian Alex Reymundo \nTickets:\nValet Parking\, Delicious Appetizers $75 (admits two)\nor VIP Seating\, Private Time and Photos with Ron and Margo $200
URL:https://nova535.com/event/halloween-comedy-show-with-ron-white-dia-de-los-muertos/
LOCATION:NOVA 535\, 535 Dr M.L.K. Jr St N\, St. Petersburg\, FL 33701\, Saint Petersburg\, FL\, 33701\, United States
ATTACH;FMTTYPE=image/jpeg:https://nova535.com/wp-content/uploads/2013/09/2013-10-31-DDLM-6-pm-9-pm-Flyer-FINAL-scaled.jpg
GEO:27.7783238;-82.6465287
X-APPLE-STRUCTURED-LOCATION;VALUE=URI;X-ADDRESS=NOVA 535 535 Dr M.L.K. Jr St N St. Petersburg FL 33701 Saint Petersburg FL 33701 United States;X-APPLE-RADIUS=500;X-TITLE=535 Dr M.L.K. Jr St N\, St. Petersburg\, FL 33701:geo:-82.6465287,27.7783238
END:VEVENT
END:VCALENDAR