BEGIN:VCALENDAR
VERSION:2.0
PRODID:-//NOVA 535 - ECPv6.15.20//NONSGML v1.0//EN
CALSCALE:GREGORIAN
METHOD:PUBLISH
X-ORIGINAL-URL:https://nova535.com
X-WR-CALDESC:Events for NOVA 535
REFRESH-INTERVAL;VALUE=DURATION:PT1H
X-Robots-Tag:noindex
X-PUBLISHED-TTL:PT1H
BEGIN:VTIMEZONE
TZID:America/New_York
BEGIN:DAYLIGHT
TZOFFSETFROM:-0500
TZOFFSETTO:-0400
TZNAME:EDT
DTSTART:20230312T070000
END:DAYLIGHT
BEGIN:STANDARD
TZOFFSETFROM:-0400
TZOFFSETTO:-0500
TZNAME:EST
DTSTART:20231105T060000
END:STANDARD
BEGIN:DAYLIGHT
TZOFFSETFROM:-0500
TZOFFSETTO:-0400
TZNAME:EDT
DTSTART:20240310T070000
END:DAYLIGHT
BEGIN:STANDARD
TZOFFSETFROM:-0400
TZOFFSETTO:-0500
TZNAME:EST
DTSTART:20241103T060000
END:STANDARD
BEGIN:DAYLIGHT
TZOFFSETFROM:-0500
TZOFFSETTO:-0400
TZNAME:EDT
DTSTART:20250309T070000
END:DAYLIGHT
BEGIN:STANDARD
TZOFFSETFROM:-0400
TZOFFSETTO:-0500
TZNAME:EST
DTSTART:20251102T060000
END:STANDARD
END:VTIMEZONE
BEGIN:VEVENT
DTSTART;TZID=America/New_York:20240507T190000
DTEND;TZID=America/New_York:20240507T210000
DTSTAMP:20260422T175547
CREATED:20240116T220753Z
LAST-MODIFIED:20240116T220753Z
UID:10000289-1715108400-1715115600@nova535.com
SUMMARY:NOVA First Tuesday Open House - May 7th 2024
DESCRIPTION:NOVA First Tuesday Open House\n**  FREE ENTRY and LIVE MUSIC **\nJoin us for FIRST TUESDAY \nat NOVA 535 from 7:00 pm to 9:00 pm \nHere is your chance to come and explore our 103-year-old\, historic wedding venue and special event space NOVA 535\, located in gorgeous downtown St. Pete\, Florida\, during our monthly NOVA First Tuesday Open House! \n() FREE PARKING and Directions\n() FULL LIQUOR cash/credit BAR\n() ALL AGES WELCOME.  21+ to consume alcohol \n7:00 pm Welcome to NOVA 535! Questions and Tours\n8:00 pm Live music by the Bay Kings Band\n9:00 pm Event Ends \nOne of the many things that makes the Bay Kings Band so fabulous is that you get to choose from an unlimited combo of singers and musicians. You start with a core group then add on the horns\, drums\, strings\, and so on. This way YOU get the look and sounds that YOU want during your wedding/event.
URL:https://nova535.com/event/nova-first-tuesday-open-house-2024-05-07/
LOCATION:NOVA 535\, 535 Dr M.L.K. Jr St N\, St. Petersburg\, FL 33701\, Saint Petersburg\, FL\, 33701\, United States
ATTACH;FMTTYPE=image/jpeg:https://nova535.com/wp-content/uploads/2022/12/2023-NOVA-FirstTuesday-Ad-FINAL.jpeg
ORGANIZER;CN="Michael Scott Novilla":MAILTO:Michael@nova535.com
GEO:27.7783238;-82.6465287
X-APPLE-STRUCTURED-LOCATION;VALUE=URI;X-ADDRESS=NOVA 535 535 Dr M.L.K. Jr St N St. Petersburg FL 33701 Saint Petersburg FL 33701 United States;X-APPLE-RADIUS=500;X-TITLE=535 Dr M.L.K. Jr St N\, St. Petersburg\, FL 33701:geo:-82.6465287,27.7783238
END:VEVENT
END:VCALENDAR