BEGIN:VCALENDAR
VERSION:2.0
PRODID:-//NOVA 535 - ECPv6.15.20//NONSGML v1.0//EN
CALSCALE:GREGORIAN
METHOD:PUBLISH
X-WR-CALNAME:NOVA 535
X-ORIGINAL-URL:https://nova535.com
X-WR-CALDESC:Events for NOVA 535
REFRESH-INTERVAL;VALUE=DURATION:PT1H
X-Robots-Tag:noindex
X-PUBLISHED-TTL:PT1H
BEGIN:VTIMEZONE
TZID:America/New_York
BEGIN:DAYLIGHT
TZOFFSETFROM:-0500
TZOFFSETTO:-0400
TZNAME:EDT
DTSTART:20240310T070000
END:DAYLIGHT
BEGIN:STANDARD
TZOFFSETFROM:-0400
TZOFFSETTO:-0500
TZNAME:EST
DTSTART:20241103T060000
END:STANDARD
BEGIN:DAYLIGHT
TZOFFSETFROM:-0500
TZOFFSETTO:-0400
TZNAME:EDT
DTSTART:20250309T070000
END:DAYLIGHT
BEGIN:STANDARD
TZOFFSETFROM:-0400
TZOFFSETTO:-0500
TZNAME:EST
DTSTART:20251102T060000
END:STANDARD
BEGIN:DAYLIGHT
TZOFFSETFROM:-0500
TZOFFSETTO:-0400
TZNAME:EDT
DTSTART:20260308T070000
END:DAYLIGHT
BEGIN:STANDARD
TZOFFSETFROM:-0400
TZOFFSETTO:-0500
TZNAME:EST
DTSTART:20261101T060000
END:STANDARD
END:VTIMEZONE
BEGIN:VEVENT
DTSTART;TZID=America/New_York:20251106T180000
DTEND;TZID=America/New_York:20251106T200000
DTSTAMP:20260421T111201
CREATED:20250203T202630Z
LAST-MODIFIED:20250203T203335Z
UID:10000697-1762452000-1762459200@nova535.com
SUMMARY:Entrepreneur Social Club 2025
DESCRIPTION:ESC is EVERY THURSDAY NIGHT since 2009!\nJoin the fun\, casual\, and always productive Entrepreneur Social Club [tm]\n() Most always at St. Pete venue NOVA 535.  CHECK LOCATION\n6:00 pm Free Parking\, Full Liquor Cash/Credit Bar.\n() No fee nor need to register.\n() Show up at any time 6pm–8pm.\n6:30 pm Sit Down Meeting\, Biz Dev\, Mentoring and Networking\n8:30 pm Dinner offsite at a nearby\, delicious restaurant. \n \nNOVA PARKING + Directions \nEvery Thursday Night since 2009!! The Entrepreneur Social Club [tm]\, affectionately called the ESC\, is a collaborative group of seasoned professionals\, start-ups\, business owners\, inventors\, successful gurus and tycoons\, students\, mentors and Entrepreneurs from every industry around the globe. Founded in 2009 by Michael S. Novilla\, author of It’s 5 AM Go Home\, we meet every Thursday night\, almost always at NOVA 535 Unique Event Space\, here in beautiful Downtown St. Pete\, Florida. We share our experiences\, engage in business exercises\, trade wants and needs\, learn\, grow and enjoy ourselves. We love connecting and helping the world’s Entrepreneurs\, one fun productive meeting at a time\, so join us! \nESC CHAT on DISCORD \n() Private FB Group\n() FB Page with Event Calendar \nRemember the ESC is politics and religion free\, leave those\, plus any racism\, bigotry and hatred at home. 18+ adults only. Thank you!
URL:https://nova535.com/event/entrepreneur-social-club-2025/2025-11-06/
LOCATION:NOVA 535\, 535 Dr M.L.K. Jr St N\, St. Petersburg\, FL 33701\, Saint Petersburg\, FL\, 33701\, United States
ATTACH;FMTTYPE=image/jpeg:https://nova535.com/wp-content/uploads/2022/03/2022-Entrepreneur-Social-Club-Group-Photo-Flyer-scaled.jpg
ORGANIZER;CN="Michael Scott Novilla":MAILTO:Michael@nova535.com
GEO:27.7783238;-82.6465287
X-APPLE-STRUCTURED-LOCATION;VALUE=URI;X-ADDRESS=NOVA 535 535 Dr M.L.K. Jr St N St. Petersburg FL 33701 Saint Petersburg FL 33701 United States;X-APPLE-RADIUS=500;X-TITLE=535 Dr M.L.K. Jr St N\, St. Petersburg\, FL 33701:geo:-82.6465287,27.7783238
END:VEVENT
BEGIN:VEVENT
DTSTART;TZID=America/New_York:20251111T190000
DTEND;TZID=America/New_York:20251111T200000
DTSTAMP:20260421T111201
CREATED:20251020T192136Z
LAST-MODIFIED:20251020T192232Z
UID:10000782-1762887600-1762891200@nova535.com
SUMMARY:Bone Valley: An Evening with Gilbert King and Leo Schofield at NOVA 535
DESCRIPTION:Bone Valley: An Evening with Gilbert King and Leo Schofield at NOVA 535\nTUESDAY NOVEMBER 11\, 2025 at 7:00 pm\nParking and Directions to NOVA 535\n535 Dr. MLK Jr. Street North\, St. Pete\, FL 33701 \nMore Info and Tickets\n  \nTombolo Book is thrilled to host award-winning author Gilbert King and Leo Schofield for King’s new book Bone Valley: A True Story of Injustice and Redemption in the Heart of Florida. \nFrom Pulitzer Prize-winning author Gilbert King comes a chilling exploration of one of America’s most haunting wrongful conviction cases. Based on the hit podcast\, Bone Valley dives into the dark heart of rural Florida\, where a young man’s life was upended by a tragic miscarriage of justice. \n \nTuesday November 11\, 2025 at 7 pm\, Tombolo Book is thrilled to host award-winning author Gilbert King and Leo Schofield\, the man whose wrongful conviction is at the center of King’s new book Bone Valley: A True Story of Injustice and Redemption in the Heart of Florida. \nThis event will take place at NOVA 535 located at 535 Dr M.L.K. Jr St N\, St. Petersburg\, FL 33701. Drinks will be available for purchase from NOVA’s full liquor bar during the event. \nPurchase Tickets and a confirmation email with more details will be sent to you. Books can be picked up before the event at TOMBOLO BOOKS\, or at NOVA on the night of the event. \n  \nEvent Two Guests – $53 ticket includes admission to the event for you and one guest and one copy of Bone Valley. \nEvent Single Guest – $43 ticket includes one admission to the event and one copy of Bone Valley. \n  \nTickets \nMore about Bone Valley\nIn 1987\, Leo Schofield was arrested and charged with the murder of his wife\, Michelle. Always insistent on his innocence\, he was poorly served by his legal defense: the investigation was sloppy\, the case flimsy\, and numerous pieces of evidence were ignored. He was sentenced to life in prison. \nOver thirty years later\, Gilbert King is tipped off to Leo’s case and is astonished by what he found: layers of corruption\, flawed evidence\, and deep-seated errors. He can’t shake the story and starts to get to know Leo and his family. Leo shows an incomprehensible amount of grace and love about his situation\, which spurs Gilbert even more to tell his story. \nBone Valley is at once a revelatory investigation into a murder\, a chilling portrait of the criminal justice system\, and a uniquely powerful story of grace and redemption. Gilbert King has written a new classic of narrative nonfiction. \nGilbert King is the writer\, producer\, and host of Bone Valley\, a narrative podcast about murder and injustice in 1980s central Florida\, from Lava For Good podcasts. He is the author of three books\, including Devil in the Grove\, winner of the Pulitzer Prize. A New York Times bestseller\, the book was also named runner-up for the Dayton Literary Peace Prize. King has written about race\, civil rights\, and the death penalty for the New York Times\, the Washington Post\, and the Atlantic\, and he was a 2019-2020 fellow at the Dorothy and Lewis B. Cullman Center for Writers and Scholars at the New York Public Library. He lives in Brooklyn. \n  \n====================== \nNOVA 535 is a gorgeously renovated\, 105 year old building\, and the #1 rated venue in Tampa St. Pete. Our 5-star venue brings your unique vision to life with our stress free experience. \nStart planning your special event HERE
URL:https://nova535.com/event/bone-valley-an-evening-with-gilbert-king-and-leo-schofield-november-11-2025-at-nova-535/
LOCATION:NOVA 535\, 535 Dr M.L.K. Jr St N\, St. Petersburg\, FL 33701\, Saint Petersburg\, FL\, 33701\, United States
ATTACH;FMTTYPE=image/jpeg:https://nova535.com/wp-content/uploads/2025/10/2025-11-11-BONE-VALLEY-book-by-GILBERT-KING-at-NOVA-535-event.jpg
ORGANIZER;CN="NOVA 535":MAILTO:sales@nova535.com
GEO:27.7783238;-82.6465287
X-APPLE-STRUCTURED-LOCATION;VALUE=URI;X-ADDRESS=NOVA 535 535 Dr M.L.K. Jr St N St. Petersburg FL 33701 Saint Petersburg FL 33701 United States;X-APPLE-RADIUS=500;X-TITLE=535 Dr M.L.K. Jr St N\, St. Petersburg\, FL 33701:geo:-82.6465287,27.7783238
END:VEVENT
BEGIN:VEVENT
DTSTART;TZID=America/New_York:20251113T180000
DTEND;TZID=America/New_York:20251113T200000
DTSTAMP:20260421T111201
CREATED:20250203T202630Z
LAST-MODIFIED:20250203T203335Z
UID:10000698-1763056800-1763064000@nova535.com
SUMMARY:Entrepreneur Social Club 2025
DESCRIPTION:ESC is EVERY THURSDAY NIGHT since 2009!\nJoin the fun\, casual\, and always productive Entrepreneur Social Club [tm]\n() Most always at St. Pete venue NOVA 535.  CHECK LOCATION\n6:00 pm Free Parking\, Full Liquor Cash/Credit Bar.\n() No fee nor need to register.\n() Show up at any time 6pm–8pm.\n6:30 pm Sit Down Meeting\, Biz Dev\, Mentoring and Networking\n8:30 pm Dinner offsite at a nearby\, delicious restaurant. \n \nNOVA PARKING + Directions \nEvery Thursday Night since 2009!! The Entrepreneur Social Club [tm]\, affectionately called the ESC\, is a collaborative group of seasoned professionals\, start-ups\, business owners\, inventors\, successful gurus and tycoons\, students\, mentors and Entrepreneurs from every industry around the globe. Founded in 2009 by Michael S. Novilla\, author of It’s 5 AM Go Home\, we meet every Thursday night\, almost always at NOVA 535 Unique Event Space\, here in beautiful Downtown St. Pete\, Florida. We share our experiences\, engage in business exercises\, trade wants and needs\, learn\, grow and enjoy ourselves. We love connecting and helping the world’s Entrepreneurs\, one fun productive meeting at a time\, so join us! \nESC CHAT on DISCORD \n() Private FB Group\n() FB Page with Event Calendar \nRemember the ESC is politics and religion free\, leave those\, plus any racism\, bigotry and hatred at home. 18+ adults only. Thank you!
URL:https://nova535.com/event/entrepreneur-social-club-2025/2025-11-13/
LOCATION:NOVA 535\, 535 Dr M.L.K. Jr St N\, St. Petersburg\, FL 33701\, Saint Petersburg\, FL\, 33701\, United States
ATTACH;FMTTYPE=image/jpeg:https://nova535.com/wp-content/uploads/2022/03/2022-Entrepreneur-Social-Club-Group-Photo-Flyer-scaled.jpg
ORGANIZER;CN="Michael Scott Novilla":MAILTO:Michael@nova535.com
GEO:27.7783238;-82.6465287
X-APPLE-STRUCTURED-LOCATION;VALUE=URI;X-ADDRESS=NOVA 535 535 Dr M.L.K. Jr St N St. Petersburg FL 33701 Saint Petersburg FL 33701 United States;X-APPLE-RADIUS=500;X-TITLE=535 Dr M.L.K. Jr St N\, St. Petersburg\, FL 33701:geo:-82.6465287,27.7783238
END:VEVENT
BEGIN:VEVENT
DTSTART;TZID=America/New_York:20251120T180000
DTEND;TZID=America/New_York:20251120T200000
DTSTAMP:20260421T111201
CREATED:20250203T202630Z
LAST-MODIFIED:20250203T203335Z
UID:10000699-1763661600-1763668800@nova535.com
SUMMARY:Entrepreneur Social Club 2025
DESCRIPTION:ESC is EVERY THURSDAY NIGHT since 2009!\nJoin the fun\, casual\, and always productive Entrepreneur Social Club [tm]\n() Most always at St. Pete venue NOVA 535.  CHECK LOCATION\n6:00 pm Free Parking\, Full Liquor Cash/Credit Bar.\n() No fee nor need to register.\n() Show up at any time 6pm–8pm.\n6:30 pm Sit Down Meeting\, Biz Dev\, Mentoring and Networking\n8:30 pm Dinner offsite at a nearby\, delicious restaurant. \n \nNOVA PARKING + Directions \nEvery Thursday Night since 2009!! The Entrepreneur Social Club [tm]\, affectionately called the ESC\, is a collaborative group of seasoned professionals\, start-ups\, business owners\, inventors\, successful gurus and tycoons\, students\, mentors and Entrepreneurs from every industry around the globe. Founded in 2009 by Michael S. Novilla\, author of It’s 5 AM Go Home\, we meet every Thursday night\, almost always at NOVA 535 Unique Event Space\, here in beautiful Downtown St. Pete\, Florida. We share our experiences\, engage in business exercises\, trade wants and needs\, learn\, grow and enjoy ourselves. We love connecting and helping the world’s Entrepreneurs\, one fun productive meeting at a time\, so join us! \nESC CHAT on DISCORD \n() Private FB Group\n() FB Page with Event Calendar \nRemember the ESC is politics and religion free\, leave those\, plus any racism\, bigotry and hatred at home. 18+ adults only. Thank you!
URL:https://nova535.com/event/entrepreneur-social-club-2025/2025-11-20/
LOCATION:NOVA 535\, 535 Dr M.L.K. Jr St N\, St. Petersburg\, FL 33701\, Saint Petersburg\, FL\, 33701\, United States
ATTACH;FMTTYPE=image/jpeg:https://nova535.com/wp-content/uploads/2022/03/2022-Entrepreneur-Social-Club-Group-Photo-Flyer-scaled.jpg
ORGANIZER;CN="Michael Scott Novilla":MAILTO:Michael@nova535.com
GEO:27.7783238;-82.6465287
X-APPLE-STRUCTURED-LOCATION;VALUE=URI;X-ADDRESS=NOVA 535 535 Dr M.L.K. Jr St N St. Petersburg FL 33701 Saint Petersburg FL 33701 United States;X-APPLE-RADIUS=500;X-TITLE=535 Dr M.L.K. Jr St N\, St. Petersburg\, FL 33701:geo:-82.6465287,27.7783238
END:VEVENT
BEGIN:VEVENT
DTSTART;TZID=America/New_York:20251123T083000
DTEND;TZID=America/New_York:20251123T163000
DTSTAMP:20260421T111201
CREATED:20251029T185705Z
LAST-MODIFIED:20260228T203000Z
UID:10000783-1763886600-1763915400@nova535.com
SUMMARY:Beyond Bold Workshop at NOVA 535
DESCRIPTION:Beyond Bold Workshop at NOVA 535\nSunday November 23\, 2025 from 8:30am – 4:30pm\nParking and Directions to NOVA 535\n535 Dr. MLK Jr. Street North\, St. Pete\, FL 33701 \nMore Info and Tickets\n1 Day – 10x The Value – Multitudes of Joyful Gifts!\n\n\n\nInspiring BOLD speakers that activate your self-leadership\nTransformational mindset & mindfulness exercises to create the foundation for your own BOLD journey forward\nMusic and movement powered interaction to invoke the power of fun\, calmness\, creativity and joy\nBOLD friendships and connections\nAmazing hand-crafted\, energy giving culinary experience!\nBOLD giveaways and prizes!\nProfessional photographer to capture you in your BOLD moments\nLifetime belonging to the Beyond Bold movement with women who share your journey\n\n\n\nWhat you will walk away with\n\n\n\nA renewed sense of grace\, courage\, creativity\, and confidence\nPractical self-leadership tools that empower you to show up CALM and BOLD\nNew meaningful connections and opportunities to collaborate\nA winning brand photo to elevate your presence\nInspiring BOLD gifts so you can always carry the Beyond Bold energy with you!\n\n\n\n\n\nLess fear. More courage.\n\n\n\nLess stress. More freedom.\n\n\n\nBold Moves.\n\n\nREGISTER HERE \n====================== \nNOVA 535 is a gorgeously renovated\, 105 year old building\, and the #1 rated venue in Tampa St. Pete. Our 5-star venue brings your unique vision to life with our stress free experience. \nStart planning your special event HERE
URL:https://nova535.com/event/beyond-bold-workshop-at-nova-535/
LOCATION:NOVA 535\, 535 Dr M.L.K. Jr St N\, St. Petersburg\, FL 33701\, Saint Petersburg\, FL\, 33701\, United States
ATTACH;FMTTYPE=image/jpeg:https://nova535.com/wp-content/uploads/2025/10/2025-11-23-Beyond-Bold-Flyer-1-.jpg
ORGANIZER;CN="NOVA 535":MAILTO:sales@nova535.com
GEO:27.7783238;-82.6465287
X-APPLE-STRUCTURED-LOCATION;VALUE=URI;X-ADDRESS=NOVA 535 535 Dr M.L.K. Jr St N St. Petersburg FL 33701 Saint Petersburg FL 33701 United States;X-APPLE-RADIUS=500;X-TITLE=535 Dr M.L.K. Jr St N\, St. Petersburg\, FL 33701:geo:-82.6465287,27.7783238
END:VEVENT
BEGIN:VEVENT
DTSTART;TZID=America/New_York:20251127T180000
DTEND;TZID=America/New_York:20251127T200000
DTSTAMP:20260421T111201
CREATED:20250203T202630Z
LAST-MODIFIED:20250203T203335Z
UID:10000700-1764266400-1764273600@nova535.com
SUMMARY:Entrepreneur Social Club 2025
DESCRIPTION:ESC is EVERY THURSDAY NIGHT since 2009!\nJoin the fun\, casual\, and always productive Entrepreneur Social Club [tm]\n() Most always at St. Pete venue NOVA 535.  CHECK LOCATION\n6:00 pm Free Parking\, Full Liquor Cash/Credit Bar.\n() No fee nor need to register.\n() Show up at any time 6pm–8pm.\n6:30 pm Sit Down Meeting\, Biz Dev\, Mentoring and Networking\n8:30 pm Dinner offsite at a nearby\, delicious restaurant. \n \nNOVA PARKING + Directions \nEvery Thursday Night since 2009!! The Entrepreneur Social Club [tm]\, affectionately called the ESC\, is a collaborative group of seasoned professionals\, start-ups\, business owners\, inventors\, successful gurus and tycoons\, students\, mentors and Entrepreneurs from every industry around the globe. Founded in 2009 by Michael S. Novilla\, author of It’s 5 AM Go Home\, we meet every Thursday night\, almost always at NOVA 535 Unique Event Space\, here in beautiful Downtown St. Pete\, Florida. We share our experiences\, engage in business exercises\, trade wants and needs\, learn\, grow and enjoy ourselves. We love connecting and helping the world’s Entrepreneurs\, one fun productive meeting at a time\, so join us! \nESC CHAT on DISCORD \n() Private FB Group\n() FB Page with Event Calendar \nRemember the ESC is politics and religion free\, leave those\, plus any racism\, bigotry and hatred at home. 18+ adults only. Thank you!
URL:https://nova535.com/event/entrepreneur-social-club-2025/2025-11-27/
LOCATION:NOVA 535\, 535 Dr M.L.K. Jr St N\, St. Petersburg\, FL 33701\, Saint Petersburg\, FL\, 33701\, United States
ATTACH;FMTTYPE=image/jpeg:https://nova535.com/wp-content/uploads/2022/03/2022-Entrepreneur-Social-Club-Group-Photo-Flyer-scaled.jpg
ORGANIZER;CN="Michael Scott Novilla":MAILTO:Michael@nova535.com
GEO:27.7783238;-82.6465287
X-APPLE-STRUCTURED-LOCATION;VALUE=URI;X-ADDRESS=NOVA 535 535 Dr M.L.K. Jr St N St. Petersburg FL 33701 Saint Petersburg FL 33701 United States;X-APPLE-RADIUS=500;X-TITLE=535 Dr M.L.K. Jr St N\, St. Petersburg\, FL 33701:geo:-82.6465287,27.7783238
END:VEVENT
END:VCALENDAR