BEGIN:VCALENDAR
VERSION:2.0
PRODID:-//NOVA 535 - ECPv6.15.20//NONSGML v1.0//EN
CALSCALE:GREGORIAN
METHOD:PUBLISH
X-ORIGINAL-URL:https://nova535.com
X-WR-CALDESC:Events for NOVA 535
REFRESH-INTERVAL;VALUE=DURATION:PT1H
X-Robots-Tag:noindex
X-PUBLISHED-TTL:PT1H
BEGIN:VTIMEZONE
TZID:America/New_York
BEGIN:DAYLIGHT
TZOFFSETFROM:-0500
TZOFFSETTO:-0400
TZNAME:EDT
DTSTART:20240310T070000
END:DAYLIGHT
BEGIN:STANDARD
TZOFFSETFROM:-0400
TZOFFSETTO:-0500
TZNAME:EST
DTSTART:20241103T060000
END:STANDARD
BEGIN:DAYLIGHT
TZOFFSETFROM:-0500
TZOFFSETTO:-0400
TZNAME:EDT
DTSTART:20250309T070000
END:DAYLIGHT
BEGIN:STANDARD
TZOFFSETFROM:-0400
TZOFFSETTO:-0500
TZNAME:EST
DTSTART:20251102T060000
END:STANDARD
BEGIN:DAYLIGHT
TZOFFSETFROM:-0500
TZOFFSETTO:-0400
TZNAME:EDT
DTSTART:20260308T070000
END:DAYLIGHT
BEGIN:STANDARD
TZOFFSETFROM:-0400
TZOFFSETTO:-0500
TZNAME:EST
DTSTART:20261101T060000
END:STANDARD
END:VTIMEZONE
BEGIN:VEVENT
DTSTART;TZID=America/New_York:20250807T180000
DTEND;TZID=America/New_York:20250807T200000
DTSTAMP:20260421T173446
CREATED:20250203T202630Z
LAST-MODIFIED:20250203T203335Z
UID:10000684-1754589600-1754596800@nova535.com
SUMMARY:Entrepreneur Social Club 2025
DESCRIPTION:ESC is EVERY THURSDAY NIGHT since 2009!\nJoin the fun\, casual\, and always productive Entrepreneur Social Club [tm]\n() Most always at St. Pete venue NOVA 535.  CHECK LOCATION\n6:00 pm Free Parking\, Full Liquor Cash/Credit Bar.\n() No fee nor need to register.\n() Show up at any time 6pm–8pm.\n6:30 pm Sit Down Meeting\, Biz Dev\, Mentoring and Networking\n8:30 pm Dinner offsite at a nearby\, delicious restaurant. \n \nNOVA PARKING + Directions \nEvery Thursday Night since 2009!! The Entrepreneur Social Club [tm]\, affectionately called the ESC\, is a collaborative group of seasoned professionals\, start-ups\, business owners\, inventors\, successful gurus and tycoons\, students\, mentors and Entrepreneurs from every industry around the globe. Founded in 2009 by Michael S. Novilla\, author of It’s 5 AM Go Home\, we meet every Thursday night\, almost always at NOVA 535 Unique Event Space\, here in beautiful Downtown St. Pete\, Florida. We share our experiences\, engage in business exercises\, trade wants and needs\, learn\, grow and enjoy ourselves. We love connecting and helping the world’s Entrepreneurs\, one fun productive meeting at a time\, so join us! \nESC CHAT on DISCORD \n() Private FB Group\n() FB Page with Event Calendar \nRemember the ESC is politics and religion free\, leave those\, plus any racism\, bigotry and hatred at home. 18+ adults only. Thank you!
URL:https://nova535.com/event/entrepreneur-social-club-2025/2025-08-07/
LOCATION:NOVA 535\, 535 Dr M.L.K. Jr St N\, St. Petersburg\, FL 33701\, Saint Petersburg\, FL\, 33701\, United States
ATTACH;FMTTYPE=image/jpeg:https://nova535.com/wp-content/uploads/2022/03/2022-Entrepreneur-Social-Club-Group-Photo-Flyer-scaled.jpg
ORGANIZER;CN="Michael Scott Novilla":MAILTO:Michael@nova535.com
GEO:27.7783238;-82.6465287
X-APPLE-STRUCTURED-LOCATION;VALUE=URI;X-ADDRESS=NOVA 535 535 Dr M.L.K. Jr St N St. Petersburg FL 33701 Saint Petersburg FL 33701 United States;X-APPLE-RADIUS=500;X-TITLE=535 Dr M.L.K. Jr St N\, St. Petersburg\, FL 33701:geo:-82.6465287,27.7783238
END:VEVENT
BEGIN:VEVENT
DTSTART;TZID=America/New_York:20250809T180000
DTEND;TZID=America/New_York:20250809T230000
DTSTAMP:20260421T173446
CREATED:20250703T183413Z
LAST-MODIFIED:20250703T183413Z
UID:10000720-1754762400-1754780400@nova535.com
SUMMARY:Manzell Bledsoe Celebrates Jazz with Queen B DJ Donnie Luv August 9\, 2025
DESCRIPTION:Manzell Bledsoe Celebrates Jazz RnB with Queen B and DJ Donnie Luv Saturday August 9\, 2025 in downtown St. Pete at historic venue NOVA 535\nSATURDAY NIGHT\, AUGUST 9\, 2025\nNOVA 535 \nTICKETS \n6:00 pm   VIP entry\n6:30 pm   General Admission\n7:00 pm   SHOWTIME: Manzell Bledsoe\n9:00 pm   DJ Donnie Luv\n11:00 pm  Event Ends \nJoin us Saturday night\, August 9\, 2025 for a sophisticated and elegant evening of live music. Hosted by Queen B from 106.5 The BEAT. Doors open for VIP guests at 6:00 pm and 6:30 pm for general admission. This event will include a celebration of Jazz and R&B\, featuring saxophonist\, composer and educator\, Manzell Bledsoe. Manzell and top local musicians offer this unique\, curated VIP experience\, delicious gourmet food\, a food truck and local vendors. All at the swankiest venue in Tampa Bay\, historic NOVA 535. Then hang tight for DJ Donnie Luv as he jumps on on the turntables\, for our 2 hour “Off The Record” mingle and groove party\, from 9pm-11pm. This is a night you don’t want to miss! \nTICKETS \nVIP TICKETS include these extras:\nPremium VIP Section Seating\, 6 Different Gourmet Hors Dourves\, Free Valet Parking and more! \nNOVA 535\n535 Dr. MLK Jr Street North\, St. Pete 33701\nPARKING and DIRECTIONS
URL:https://nova535.com/event/manzell-bledsoe-celebrates-jazz-with-queen-b-dj-donnie-luv-august-9-2025/
LOCATION:NOVA 535\, 535 Dr M.L.K. Jr St N\, St. Petersburg\, FL 33701\, Saint Petersburg\, FL\, 33701\, United States
ATTACH;FMTTYPE=image/jpeg:https://nova535.com/wp-content/uploads/2025/07/2025-08-09-Manzell-Bledsoe-Live-Jazz-at-NOVA-535-Saturday-August-9-2025.jpg
ORGANIZER;CN="NOVA 535":MAILTO:sales@nova535.com
GEO:27.7783238;-82.6465287
X-APPLE-STRUCTURED-LOCATION;VALUE=URI;X-ADDRESS=NOVA 535 535 Dr M.L.K. Jr St N St. Petersburg FL 33701 Saint Petersburg FL 33701 United States;X-APPLE-RADIUS=500;X-TITLE=535 Dr M.L.K. Jr St N\, St. Petersburg\, FL 33701:geo:-82.6465287,27.7783238
END:VEVENT
BEGIN:VEVENT
DTSTART;TZID=America/New_York:20250814T180000
DTEND;TZID=America/New_York:20250814T200000
DTSTAMP:20260421T173446
CREATED:20250203T202630Z
LAST-MODIFIED:20250203T203335Z
UID:10000685-1755194400-1755201600@nova535.com
SUMMARY:Entrepreneur Social Club 2025
DESCRIPTION:ESC is EVERY THURSDAY NIGHT since 2009!\nJoin the fun\, casual\, and always productive Entrepreneur Social Club [tm]\n() Most always at St. Pete venue NOVA 535.  CHECK LOCATION\n6:00 pm Free Parking\, Full Liquor Cash/Credit Bar.\n() No fee nor need to register.\n() Show up at any time 6pm–8pm.\n6:30 pm Sit Down Meeting\, Biz Dev\, Mentoring and Networking\n8:30 pm Dinner offsite at a nearby\, delicious restaurant. \n \nNOVA PARKING + Directions \nEvery Thursday Night since 2009!! The Entrepreneur Social Club [tm]\, affectionately called the ESC\, is a collaborative group of seasoned professionals\, start-ups\, business owners\, inventors\, successful gurus and tycoons\, students\, mentors and Entrepreneurs from every industry around the globe. Founded in 2009 by Michael S. Novilla\, author of It’s 5 AM Go Home\, we meet every Thursday night\, almost always at NOVA 535 Unique Event Space\, here in beautiful Downtown St. Pete\, Florida. We share our experiences\, engage in business exercises\, trade wants and needs\, learn\, grow and enjoy ourselves. We love connecting and helping the world’s Entrepreneurs\, one fun productive meeting at a time\, so join us! \nESC CHAT on DISCORD \n() Private FB Group\n() FB Page with Event Calendar \nRemember the ESC is politics and religion free\, leave those\, plus any racism\, bigotry and hatred at home. 18+ adults only. Thank you!
URL:https://nova535.com/event/entrepreneur-social-club-2025/2025-08-14/
LOCATION:NOVA 535\, 535 Dr M.L.K. Jr St N\, St. Petersburg\, FL 33701\, Saint Petersburg\, FL\, 33701\, United States
ATTACH;FMTTYPE=image/jpeg:https://nova535.com/wp-content/uploads/2022/03/2022-Entrepreneur-Social-Club-Group-Photo-Flyer-scaled.jpg
ORGANIZER;CN="Michael Scott Novilla":MAILTO:Michael@nova535.com
GEO:27.7783238;-82.6465287
X-APPLE-STRUCTURED-LOCATION;VALUE=URI;X-ADDRESS=NOVA 535 535 Dr M.L.K. Jr St N St. Petersburg FL 33701 Saint Petersburg FL 33701 United States;X-APPLE-RADIUS=500;X-TITLE=535 Dr M.L.K. Jr St N\, St. Petersburg\, FL 33701:geo:-82.6465287,27.7783238
END:VEVENT
BEGIN:VEVENT
DTSTART;TZID=America/New_York:20250821T180000
DTEND;TZID=America/New_York:20250821T200000
DTSTAMP:20260421T173446
CREATED:20250203T202630Z
LAST-MODIFIED:20250203T203335Z
UID:10000686-1755799200-1755806400@nova535.com
SUMMARY:Entrepreneur Social Club 2025
DESCRIPTION:ESC is EVERY THURSDAY NIGHT since 2009!\nJoin the fun\, casual\, and always productive Entrepreneur Social Club [tm]\n() Most always at St. Pete venue NOVA 535.  CHECK LOCATION\n6:00 pm Free Parking\, Full Liquor Cash/Credit Bar.\n() No fee nor need to register.\n() Show up at any time 6pm–8pm.\n6:30 pm Sit Down Meeting\, Biz Dev\, Mentoring and Networking\n8:30 pm Dinner offsite at a nearby\, delicious restaurant. \n \nNOVA PARKING + Directions \nEvery Thursday Night since 2009!! The Entrepreneur Social Club [tm]\, affectionately called the ESC\, is a collaborative group of seasoned professionals\, start-ups\, business owners\, inventors\, successful gurus and tycoons\, students\, mentors and Entrepreneurs from every industry around the globe. Founded in 2009 by Michael S. Novilla\, author of It’s 5 AM Go Home\, we meet every Thursday night\, almost always at NOVA 535 Unique Event Space\, here in beautiful Downtown St. Pete\, Florida. We share our experiences\, engage in business exercises\, trade wants and needs\, learn\, grow and enjoy ourselves. We love connecting and helping the world’s Entrepreneurs\, one fun productive meeting at a time\, so join us! \nESC CHAT on DISCORD \n() Private FB Group\n() FB Page with Event Calendar \nRemember the ESC is politics and religion free\, leave those\, plus any racism\, bigotry and hatred at home. 18+ adults only. Thank you!
URL:https://nova535.com/event/entrepreneur-social-club-2025/2025-08-21/
LOCATION:NOVA 535\, 535 Dr M.L.K. Jr St N\, St. Petersburg\, FL 33701\, Saint Petersburg\, FL\, 33701\, United States
ATTACH;FMTTYPE=image/jpeg:https://nova535.com/wp-content/uploads/2022/03/2022-Entrepreneur-Social-Club-Group-Photo-Flyer-scaled.jpg
ORGANIZER;CN="Michael Scott Novilla":MAILTO:Michael@nova535.com
GEO:27.7783238;-82.6465287
X-APPLE-STRUCTURED-LOCATION;VALUE=URI;X-ADDRESS=NOVA 535 535 Dr M.L.K. Jr St N St. Petersburg FL 33701 Saint Petersburg FL 33701 United States;X-APPLE-RADIUS=500;X-TITLE=535 Dr M.L.K. Jr St N\, St. Petersburg\, FL 33701:geo:-82.6465287,27.7783238
END:VEVENT
BEGIN:VEVENT
DTSTART;TZID=America/New_York:20250828T180000
DTEND;TZID=America/New_York:20250828T200000
DTSTAMP:20260421T173446
CREATED:20250203T202630Z
LAST-MODIFIED:20250203T203335Z
UID:10000687-1756404000-1756411200@nova535.com
SUMMARY:Entrepreneur Social Club 2025
DESCRIPTION:ESC is EVERY THURSDAY NIGHT since 2009!\nJoin the fun\, casual\, and always productive Entrepreneur Social Club [tm]\n() Most always at St. Pete venue NOVA 535.  CHECK LOCATION\n6:00 pm Free Parking\, Full Liquor Cash/Credit Bar.\n() No fee nor need to register.\n() Show up at any time 6pm–8pm.\n6:30 pm Sit Down Meeting\, Biz Dev\, Mentoring and Networking\n8:30 pm Dinner offsite at a nearby\, delicious restaurant. \n \nNOVA PARKING + Directions \nEvery Thursday Night since 2009!! The Entrepreneur Social Club [tm]\, affectionately called the ESC\, is a collaborative group of seasoned professionals\, start-ups\, business owners\, inventors\, successful gurus and tycoons\, students\, mentors and Entrepreneurs from every industry around the globe. Founded in 2009 by Michael S. Novilla\, author of It’s 5 AM Go Home\, we meet every Thursday night\, almost always at NOVA 535 Unique Event Space\, here in beautiful Downtown St. Pete\, Florida. We share our experiences\, engage in business exercises\, trade wants and needs\, learn\, grow and enjoy ourselves. We love connecting and helping the world’s Entrepreneurs\, one fun productive meeting at a time\, so join us! \nESC CHAT on DISCORD \n() Private FB Group\n() FB Page with Event Calendar \nRemember the ESC is politics and religion free\, leave those\, plus any racism\, bigotry and hatred at home. 18+ adults only. Thank you!
URL:https://nova535.com/event/entrepreneur-social-club-2025/2025-08-28/
LOCATION:NOVA 535\, 535 Dr M.L.K. Jr St N\, St. Petersburg\, FL 33701\, Saint Petersburg\, FL\, 33701\, United States
ATTACH;FMTTYPE=image/jpeg:https://nova535.com/wp-content/uploads/2022/03/2022-Entrepreneur-Social-Club-Group-Photo-Flyer-scaled.jpg
ORGANIZER;CN="Michael Scott Novilla":MAILTO:Michael@nova535.com
GEO:27.7783238;-82.6465287
X-APPLE-STRUCTURED-LOCATION;VALUE=URI;X-ADDRESS=NOVA 535 535 Dr M.L.K. Jr St N St. Petersburg FL 33701 Saint Petersburg FL 33701 United States;X-APPLE-RADIUS=500;X-TITLE=535 Dr M.L.K. Jr St N\, St. Petersburg\, FL 33701:geo:-82.6465287,27.7783238
END:VEVENT
END:VCALENDAR